BEGIN:VCALENDAR
VERSION:2.0
PRODID:-//GreeningDetroit.com - ECPv5.11.0//NONSGML v1.0//EN
CALSCALE:GREGORIAN
METHOD:PUBLISH
X-WR-CALNAME:GreeningDetroit.com
X-ORIGINAL-URL:https://www.greeningdetroit.com
X-WR-CALDESC:Events for GreeningDetroit.com
BEGIN:VTIMEZONE
TZID:America/Detroit
BEGIN:DAYLIGHT
TZOFFSETFROM:-0500
TZOFFSETTO:-0400
TZNAME:EDT
DTSTART:20170312T070000
END:DAYLIGHT
BEGIN:STANDARD
TZOFFSETFROM:-0400
TZOFFSETTO:-0500
TZNAME:EST
DTSTART:20171105T060000
END:STANDARD
END:VTIMEZONE
BEGIN:VEVENT
DTSTART;TZID=America/Detroit:20170822T160000
DTEND;TZID=America/Detroit:20170822T170000
DTSTAMP:20260421T101448
CREATED:20170715T142231Z
LAST-MODIFIED:20170715T142231Z
UID:40396-1503417600-1503421200@www.greeningdetroit.com
SUMMARY:2017 Reset Your body\, Mind & Spirit 1-2-3-4-or 5-day Ultimate Cleansing Retreat
DESCRIPTION:Reeling in our body\, mind and spirit  is what is on the agenda for this Ultimate Reset program.  It is time to prepare our body\, mind and spirit for a complete renewal in order to embrace the new year\, on a continual basis\,  with a healthy attitude towards our quality of life.  It is time to step out of the death culture into the culture of life and experience life more abundantly.  We want to be healthy\,  we really do…. but there is some pleasure seeking part of us that operates without regard to the consequences of our thoughts and resultant actions.  \nAfter a time of giving in to these guilty pleasures and mindless endeavors\, it is easy to follow that inner voice that says it is okay to eat foods that we know are a  bad choice.  This 5-day Reset Program is designed to assist you in the following and will include:\nEnergy Soup\nLive food Meal\nRejuvelac\nSprouts\nGinger Tea & Lemon Water\nAlkaline Water \nThe following amenities are available for your use:\nHealing equipment: Bio-Mat (infrared Detox and Immune system Builder). Low level laser (reduces inflammation\, burns fat and assist in releasing toxins in the body)\, exercise equipment:  Rebounding\, Slant board\, Chi Machine \,  slim glider & foot massage/circulation machine and more…\n***Ionic Foot Detox available on Tuesday\, May 20\, 2017.***\n****Massage and ear candeling available when time permits**** \nAlso instructional/educational  info in the following areas where you learn how to:\n• Conquer the seemingly endless mind games and re-claim your true mind\n• Reduce cravings for genetically modified foods that sabotage your efforts\n• Gain knowledge and tips to conquer bad habits\n• Be in control of your self during all of the tempting days of the year\n• Understanding food addiction and cravings\n• Understanding how nutrient dense foods assist in the natural process of better choices\n• Finding the plan that works for your personality and lifestyle\n• Following the natural body hygiene\n• Learning the profound benefits of drinking your veggies and eating your fruits \nNote:  If you only need a minor turn-up\, perhaps participating in just 1 or 2 days may work for you.\nThe cost for the 1-day Reset Program is $89.99\nThe cost for the 2-day reset program is $79.99 per day\nThe cost for the 3-4-or5 days reset Program is $69.99 per day\nPayPal account is [masked].\nOther Payment arrangements can be made by calling: [masked]-0267. \n50% DEPOSIT REQUIRED TO RESERVE.\n5 participants per day required.\nTime will be allowed for using the state of the art healing equipment and the passive exercise equipment\, reflecting upon this year and enjoying some relaxation time in a tranquil\, loving environment.\nNOTE:  Attendees:  Wear very comfortable clothing\, bring slippers\, two bath towels\, a twin sheet.\nClass size is limited.  Attendance is based on a first come first served basis. Reserve now to reserve your space!\nP. S.  If you are using PayPal\, Please add a $3.00 transaction fee to the cost.  Thank you.
URL:https://www.greeningdetroit.com/event/2017-reset-body-mind-spirit-1-2-3-4-5-day-ultimate-cleansing-retreat/
CATEGORIES:Health
END:VEVENT
END:VCALENDAR