BEGIN:VCALENDAR
VERSION:2.0
PRODID:-//GreeningDetroit.com - ECPv5.11.0//NONSGML v1.0//EN
CALSCALE:GREGORIAN
METHOD:PUBLISH
X-WR-CALNAME:GreeningDetroit.com
X-ORIGINAL-URL:https://www.greeningdetroit.com
X-WR-CALDESC:Events for GreeningDetroit.com
BEGIN:VTIMEZONE
TZID:America/Detroit
BEGIN:DAYLIGHT
TZOFFSETFROM:-0500
TZOFFSETTO:-0400
TZNAME:EDT
DTSTART:20170312T070000
END:DAYLIGHT
BEGIN:STANDARD
TZOFFSETFROM:-0400
TZOFFSETTO:-0500
TZNAME:EST
DTSTART:20171105T060000
END:STANDARD
END:VTIMEZONE
BEGIN:VEVENT
DTSTART;TZID=America/Detroit:20170919T100000
DTEND;TZID=America/Detroit:20170919T160000
DTSTAMP:20260421T113355
CREATED:20170807T144012Z
LAST-MODIFIED:20170807T144012Z
UID:41624-1505815200-1505836800@www.greeningdetroit.com
SUMMARY:2017 Reset Your body\, Mind & Spirit 1-2-3-4-or 5-dayWaste loss Cleansing Retreat
DESCRIPTION:Reeling in our body\, mind and spirit is what is on the agenda for this Ultimate Reset program. It is time to prepare our body\, mind and spirit for a complete renewal in order to embrace the new year\, on a continual basis\, with a healthy attitude towards our quality of life. It is time to step out of the death culture into the culture of life and experience life more abundantly. We want to be healthy\, we really do…. but there is some pleasure seeking part of us that operates without regard to the consequences of our thoughts and resultant actions. After a time of giving in to these guilty pleasures and mindless endeavors\, it is easy to follow that inner voice that says it is okay to eat foods that we know are a bad choice.
URL:https://www.greeningdetroit.com/event/2017-reset-body-mind-spirit-1-2-3-4-5-daywaste-loss-cleansing-retreat/
CATEGORIES:Health
END:VEVENT
END:VCALENDAR