BEGIN:VCALENDAR
VERSION:2.0
PRODID:-//GreeningDetroit.com - ECPv5.11.0//NONSGML v1.0//EN
CALSCALE:GREGORIAN
METHOD:PUBLISH
X-WR-CALNAME:GreeningDetroit.com
X-ORIGINAL-URL:https://www.greeningdetroit.com
X-WR-CALDESC:Events for GreeningDetroit.com
BEGIN:VTIMEZONE
TZID:America/Detroit
BEGIN:DAYLIGHT
TZOFFSETFROM:-0500
TZOFFSETTO:-0400
TZNAME:EDT
DTSTART:20180311T070000
END:DAYLIGHT
BEGIN:STANDARD
TZOFFSETFROM:-0400
TZOFFSETTO:-0500
TZNAME:EST
DTSTART:20181104T060000
END:STANDARD
END:VTIMEZONE
BEGIN:VEVENT
DTSTART;TZID=America/Detroit:20180924T130000
DTEND;TZID=America/Detroit:20180924T143000
DTSTAMP:20260421T055430
CREATED:20180917T194258Z
LAST-MODIFIED:20180917T194330Z
UID:48196-1537794000-1537799400@www.greeningdetroit.com
SUMMARY:Detroit Water and Climate Work Discussion
DESCRIPTION:Sign-up to participate in the Monday\, September 24 meeting from 1-2:30 pm in Ann Arbor on water and climate work. \nOnce you sign up\, you’ll receive an email with the information you’ll need to participate. \nClick the link below if you are interested! \nhttps://freshwaterfuture.salsalabs.org/freshwaterfuturegrantprograminformationcopy1/index.html?eType=EmailBlastContent&eId=40b52c44-faca-47e9-9917-d853acbd5e4f
URL:https://www.greeningdetroit.com/event/detroit-water-and-climate-work-discussion/
CATEGORIES:Seminar
END:VEVENT
END:VCALENDAR