BEGIN:VCALENDAR
VERSION:2.0
PRODID:-//GreeningDetroit.com - ECPv5.11.0//NONSGML v1.0//EN
CALSCALE:GREGORIAN
METHOD:PUBLISH
X-WR-CALNAME:GreeningDetroit.com
X-ORIGINAL-URL:https://www.greeningdetroit.com
X-WR-CALDESC:Events for GreeningDetroit.com
BEGIN:VTIMEZONE
TZID:America/Detroit
BEGIN:DAYLIGHT
TZOFFSETFROM:-0500
TZOFFSETTO:-0400
TZNAME:EDT
DTSTART:20180311T070000
END:DAYLIGHT
BEGIN:STANDARD
TZOFFSETFROM:-0400
TZOFFSETTO:-0500
TZNAME:EST
DTSTART:20181104T060000
END:STANDARD
END:VTIMEZONE
BEGIN:VEVENT
DTSTART;TZID=America/Detroit:20180925T080000
DTEND;TZID=America/Detroit:20180925T170000
DTSTAMP:20260421T085207
CREATED:20180714T150445Z
LAST-MODIFIED:20180714T150649Z
UID:47525-1537862400-1537894800@www.greeningdetroit.com
SUMMARY:Dr. Caldwell Esselstyn and Ann Esselstyn
DESCRIPTION:Josh LaJaunie\, a proud “bayou boy\,” was perhaps the last person anyone would have expected to become a plant-powered ultra-marathoner. Growing up\, he embraced hunting\, rich food\, and alcohol to celebrate his connection to his beloved family and hometown of Thibodaux\, Louisiana. However\, a series of profoundly surprising experiences led Josh to question the impossible. Now\, he works to help people build communities around more positive lifestyles. In fact\, his entire family has transitioned to plant-strong living. Together\, they have lost a total of over one thousand pounds. \n \nJosh appears in the documentary Big Change: The Film. He has also been featured on the cover of Runners World magazine. After that\, he cofounded the Missing Chins Run Club\, a Facebook group whose story has been on Good Morning America. In 2017\, Josh told his story of transformation at Plant-Stock on the Esselstyn Farm. He has been interviewed by Megyn Kelly on the Today show\, as well as WFPB heroes Chef AJ and Rich Roll\, to name a few. Josh is writing a book with Howard Jacobson\, PhD\, who is also the coauthor of Proteinaholic with Garth Davis\, MD and Whole with T. Colin Campbell\, PhD. Josh’s website\, joshlajaunie.com\, includes links to connect with him on social media along with his “manifesto” of his journey.
URL:https://www.greeningdetroit.com/event/dr-caldwell-esselstyn-and-ann-esselstyn/
CATEGORIES:Health
END:VEVENT
END:VCALENDAR