BEGIN:VCALENDAR
VERSION:2.0
PRODID:-//GreeningDetroit.com - ECPv5.11.0//NONSGML v1.0//EN
CALSCALE:GREGORIAN
METHOD:PUBLISH
X-WR-CALNAME:GreeningDetroit.com
X-ORIGINAL-URL:https://www.greeningdetroit.com
X-WR-CALDESC:Events for GreeningDetroit.com
BEGIN:VTIMEZONE
TZID:America/Detroit
BEGIN:DAYLIGHT
TZOFFSETFROM:-0500
TZOFFSETTO:-0400
TZNAME:EDT
DTSTART:20180311T070000
END:DAYLIGHT
BEGIN:STANDARD
TZOFFSETFROM:-0400
TZOFFSETTO:-0500
TZNAME:EST
DTSTART:20181104T060000
END:STANDARD
END:VTIMEZONE
BEGIN:VEVENT
DTSTART;TZID=America/Detroit:20180206T090000
DTEND;TZID=America/Detroit:20180206T130000
DTSTAMP:20260421T105756
CREATED:20180203T153901Z
LAST-MODIFIED:20180203T153901Z
UID:44552-1517907600-1517922000@www.greeningdetroit.com
SUMMARY:Education & Training Fair! Tuesday\, February 6th - 9.a.m to 1.p.m
DESCRIPTION: \n\nEducation-Training+Fair+Fyer.JPG\n\n\n \n\nUpdate your subscriptions\, modify your password or email address\, or stop subscriptions at any time on your Subscriber Preferences Page. You will need to use your email address to log in. If you have questions or problems with the subscription service\, please visit subscriberhelp.govdelivery.com.\nThis service is provided to you at no charge by City of Detroit\, Michigan.
URL:https://www.greeningdetroit.com/event/education-training-fair-tuesday-february-6th-9-m-1-p-m/
LOCATION:Northwest Career Center\, 18100 Meyers Rd.\, Detroit\, MI\, 48235\, United States
END:VEVENT
END:VCALENDAR