BEGIN:VCALENDAR
VERSION:2.0
PRODID:-//GreeningDetroit.com - ECPv5.11.0//NONSGML v1.0//EN
CALSCALE:GREGORIAN
METHOD:PUBLISH
X-WR-CALNAME:GreeningDetroit.com
X-ORIGINAL-URL:https://www.greeningdetroit.com
X-WR-CALDESC:Events for GreeningDetroit.com
BEGIN:VTIMEZONE
TZID:America/Detroit
BEGIN:DAYLIGHT
TZOFFSETFROM:-0500
TZOFFSETTO:-0400
TZNAME:EDT
DTSTART:20190310T070000
END:DAYLIGHT
BEGIN:STANDARD
TZOFFSETFROM:-0400
TZOFFSETTO:-0500
TZNAME:EST
DTSTART:20191103T060000
END:STANDARD
END:VTIMEZONE
BEGIN:VEVENT
DTSTART;TZID=America/Detroit:20190316T100000
DTEND;TZID=America/Detroit:20190316T140000
DTSTAMP:20260421T062105
CREATED:20190223T001712Z
LAST-MODIFIED:20190223T001712Z
UID:49651-1552730400-1552744800@www.greeningdetroit.com
SUMMARY:Green Your Neighborhood - Community Sustainability Forum
DESCRIPTION:Community sustainability forum featuring keynote speaker: Kathleen Wolf\, PhD\, University of Washington\, and guest speaker: Branko Kerkez\, PhD\, University of Michigan\, plus 2017 Erie Hack Competition winners – Micro Buoy\, (invited). Information tabling and breakout sessions: rain barrels\, rain gardens\, growing healthy trees\, monarchs & pollinators\, basic gardening & healthy soils. Raffle and refreshments
URL:https://www.greeningdetroit.com/event/green-your-neighborhood-community-sustainability-forum/
LOCATION:Wayne County Community College District – East Campus\, 5901 Conner\, Detroit\, MI\, United States
CATEGORIES:Conference
ATTACH;FMTTYPE=image/jpeg:https://www.greeningdetroit.com/wp-content/uploads/2019/02/2019-GYN-Flyer-FINAL-2.22.19.jpg
ORGANIZER;CN="Sierra%20Club":MAILTO:quentin.turner@sierraclub.org
END:VEVENT
END:VCALENDAR