BEGIN:VCALENDAR
VERSION:2.0
PRODID:-//GreeningDetroit.com - ECPv5.11.0//NONSGML v1.0//EN
CALSCALE:GREGORIAN
METHOD:PUBLISH
X-WR-CALNAME:GreeningDetroit.com
X-ORIGINAL-URL:https://www.greeningdetroit.com
X-WR-CALDESC:Events for GreeningDetroit.com
BEGIN:VTIMEZONE
TZID:America/Detroit
BEGIN:DAYLIGHT
TZOFFSETFROM:-0500
TZOFFSETTO:-0400
TZNAME:EDT
DTSTART:20180311T070000
END:DAYLIGHT
BEGIN:STANDARD
TZOFFSETFROM:-0400
TZOFFSETTO:-0500
TZNAME:EST
DTSTART:20181104T060000
END:STANDARD
END:VTIMEZONE
BEGIN:VEVENT
DTSTART;TZID=America/Detroit:20180213T080000
DTEND;TZID=America/Detroit:20180213T170000
DTSTAMP:20260421T060600
CREATED:20180214T184903Z
LAST-MODIFIED:20200127T100942Z
UID:45014-1518508800-1518541200@www.greeningdetroit.com
SUMMARY:https://www.greeningdetroit.com/2018/02/13/semcog-invites-public-comment-fy-2018-2019-annual-operating-budget-work-program-summary/
DESCRIPTION:SEMCOG invites public comment on the FY 2018-2019 Annual Operating Budget and Work Program Summary
URL:https://www.greeningdetroit.com/event/https-www-greeningdetroit-com-2018-02-13-semcog-invites-public-comment-fy-2018-2019-annual-operating-budget-work-program-summary/
CATEGORIES:Organization Member Event
END:VEVENT
END:VCALENDAR