BEGIN:VCALENDAR
VERSION:2.0
PRODID:-//GreeningDetroit.com - ECPv5.11.0//NONSGML v1.0//EN
CALSCALE:GREGORIAN
METHOD:PUBLISH
X-WR-CALNAME:GreeningDetroit.com
X-ORIGINAL-URL:https://www.greeningdetroit.com
X-WR-CALDESC:Events for GreeningDetroit.com
BEGIN:VTIMEZONE
TZID:America/Detroit
BEGIN:DAYLIGHT
TZOFFSETFROM:-0500
TZOFFSETTO:-0400
TZNAME:EDT
DTSTART:20190310T070000
END:DAYLIGHT
BEGIN:STANDARD
TZOFFSETFROM:-0400
TZOFFSETTO:-0500
TZNAME:EST
DTSTART:20191103T060000
END:STANDARD
END:VTIMEZONE
BEGIN:VEVENT
DTSTART;TZID=America/Detroit:20190112T080000
DTEND;TZID=America/Detroit:20190112T170000
DTSTAMP:20260421T044115
CREATED:20190112T163506Z
LAST-MODIFIED:20190112T163559Z
UID:49192-1547280000-1547312400@www.greeningdetroit.com
SUMMARY:Joel Kahn\, MD Speaking On Ketosis: Is A Low Carb Diet Lethal?
DESCRIPTION:PBNSG welcomes Joel Kahn\, MD speaking on\nKetosis: Is A Low Carb Diet Lethal?\nThe latest dietary trend is the low-carb diet\, sometimes called Keto or Ketogenic diet. The Keto diet isn’t a new idea\, it goes back at least 40 years to the Atkin’s Diet. There is a large amount of scientific research indicating this is an unsafe way of eating when consuming animal based products.\nPlant-Based Ketogenic diets will be discussed and the data for and against them will be presented. \n  \nDr. Kahn has authored scores of publications in his field including articles\, book chapters and monographs. He writes articles for MindBodyGreen\, Thrive Global\, and Reader’s Digest and has five books in publication including Your Whole Heart Solution\, Dead Execs Don’t Get Bonuses and The Plant Based Solution. He has regular appearances on Dr. Phil\, The Doctors Show and Fox 2 News. He has been awarded a Health Hero award from Detroit Crain’s Business. He owns 3 health restaurants in Detroit and Austin\, Texas.
URL:https://www.greeningdetroit.com/event/joel-kahn-md-speaking-on-ketosis-is-a-low-carb-diet-lethal/
CATEGORIES:Educational
END:VEVENT
END:VCALENDAR