BEGIN:VCALENDAR
VERSION:2.0
PRODID:-//GreeningDetroit.com - ECPv5.11.0//NONSGML v1.0//EN
CALSCALE:GREGORIAN
METHOD:PUBLISH
X-WR-CALNAME:GreeningDetroit.com
X-ORIGINAL-URL:https://www.greeningdetroit.com
X-WR-CALDESC:Events for GreeningDetroit.com
BEGIN:VTIMEZONE
TZID:America/Detroit
BEGIN:DAYLIGHT
TZOFFSETFROM:-0500
TZOFFSETTO:-0400
TZNAME:EDT
DTSTART:20170312T070000
END:DAYLIGHT
BEGIN:STANDARD
TZOFFSETFROM:-0400
TZOFFSETTO:-0500
TZNAME:EST
DTSTART:20171105T060000
END:STANDARD
END:VTIMEZONE
BEGIN:VEVENT
DTSTART;TZID=America/Detroit:20170824T080000
DTEND;TZID=America/Detroit:20170824T120000
DTSTAMP:20260421T055124
CREATED:20170626T195303Z
LAST-MODIFIED:20170626T195303Z
UID:40018-1503561600-1503576000@www.greeningdetroit.com
SUMMARY:Learn more about becoming a Certified B-Corps.
DESCRIPTION:The August Member-Guest event is approaching.\n\n\n\n\n\n\n\n\n\n\n\n\n\n\n\n\n\n\n\n\n\n\n\n\n\n\n\n\n\n\n\n\n\n\n\n\n\n\n\n\n\n\n\n\n\n\n\n\n\n\n\n\n\n\nLearn more about becoming a Certified B-Corps. \n\nBeing the Change\n  \nAre you an entrepreneur\, or start-up business leader who’s trying to figure out the triple bottom line? Are you working for a large corporation and trying to come up with ways to make sustainability tangible and practicable? Certified B-Corps are the answer.\nSave Thursday\, August 24th for the SMSBF Member-Guest Event.\nMark your calendars for Thursday\, August 24th from 8:30 to noon for SMSBF’s “Being the Change” Member-Guest event\, which will be held at the Southfield Campus of Lawrence Technological University.\nWe’ll get into the nuts and bolts of what it means to become a Certified B-Corps. Our presenters are subject matter experts; they’re practitioners and are intimately involved in running B-Corps. Like all of our Member Guest events\, there’ll be plenty of time for networking\, questions and a high level of interaction. Don’t miss this event!\nClick here to access our website and learn more!\n\n\n\n\n\n\n\n\n\n\n\n\n\n\n\n\nDon’t forget to follow SMSBF on social media!
URL:https://www.greeningdetroit.com/event/learn-becoming-certified-b-corps/
CATEGORIES:Seminar
END:VEVENT
END:VCALENDAR