BEGIN:VCALENDAR
VERSION:2.0
PRODID:-//GreeningDetroit.com - ECPv5.11.0//NONSGML v1.0//EN
CALSCALE:GREGORIAN
METHOD:PUBLISH
X-WR-CALNAME:GreeningDetroit.com
X-ORIGINAL-URL:https://www.greeningdetroit.com
X-WR-CALDESC:Events for GreeningDetroit.com
BEGIN:VTIMEZONE
TZID:America/Detroit
BEGIN:DAYLIGHT
TZOFFSETFROM:-0500
TZOFFSETTO:-0400
TZNAME:EDT
DTSTART:20180311T070000
END:DAYLIGHT
BEGIN:STANDARD
TZOFFSETFROM:-0400
TZOFFSETTO:-0500
TZNAME:EST
DTSTART:20181104T060000
END:STANDARD
END:VTIMEZONE
BEGIN:VEVENT
DTSTART;TZID=America/Detroit:20180925T080000
DTEND;TZID=America/Detroit:20180926T153000
DTSTAMP:20260421T084320
CREATED:20180901T194419Z
LAST-MODIFIED:20180901T194419Z
UID:47989-1537862400-1537975800@www.greeningdetroit.com
SUMMARY:MAMA Space Symposium
DESCRIPTION:The symposium focus is on understanding and taking advantage of defense and commercial opportunities in near-earth and low orbit space. \nThought leaders and policy makers who are envisioning and implementing the USA’s presence in space will provide context for the program. Prime contractors and program managers will brief attendees on their current and planned projects. They will be detailing the needs and opportunities available to the USA’s supplier network. \nAttendees representing small and medium size enterprises in the fields of engineering and manufacturing will have the opportunity to participate in B2B meetings with the presenting prime contractors. \nWhether it is the Pentagon’s new Space Force\, nano/microsatellite networks\, or Missile Defense Systems\, near earth outer space is becoming crowded with business opportunities. Growth focused enterprises who aspire to be part of the next generation of high tech companies will benefit from attending this event. \nSource: Michigan Aerospace Manufacturers Association
URL:https://www.greeningdetroit.com/event/mama-space-symposium/
LOCATION:Holiday Inn Battle Creek 12812 Harper Village Drive Battle Creek\, Michigan 49104\, Holiday Inn Battle Creek 12812 Harper Village Drive\, Battle Creek\, MI\, 49104\, United States
CATEGORIES:Organization Member Event
END:VEVENT
END:VCALENDAR