BEGIN:VCALENDAR
VERSION:2.0
PRODID:-//GreeningDetroit.com - ECPv5.11.0//NONSGML v1.0//EN
CALSCALE:GREGORIAN
METHOD:PUBLISH
X-WR-CALNAME:GreeningDetroit.com
X-ORIGINAL-URL:https://www.greeningdetroit.com
X-WR-CALDESC:Events for GreeningDetroit.com
BEGIN:VTIMEZONE
TZID:America/Detroit
BEGIN:DAYLIGHT
TZOFFSETFROM:-0500
TZOFFSETTO:-0400
TZNAME:EDT
DTSTART:20180311T070000
END:DAYLIGHT
BEGIN:STANDARD
TZOFFSETFROM:-0400
TZOFFSETTO:-0500
TZNAME:EST
DTSTART:20181104T060000
END:STANDARD
END:VTIMEZONE
BEGIN:VEVENT
DTSTART;TZID=America/Detroit:20181014T090000
DTEND;TZID=America/Detroit:20181014T130000
DTSTAMP:20260421T041717
CREATED:20180901T180458Z
LAST-MODIFIED:20180901T180458Z
UID:47934-1539507600-1539522000@www.greeningdetroit.com
SUMMARY:March for HOPE
DESCRIPTION:
URL:https://www.greeningdetroit.com/event/march-for-hope/
LOCATION:1200 Oakmand Blvd\, 1200 oakmand blvd\, detroit\, MI\, 48238
CATEGORIES:Fundraiser
END:VEVENT
END:VCALENDAR