BEGIN:VCALENDAR
VERSION:2.0
PRODID:-//GreeningDetroit.com - ECPv5.11.0//NONSGML v1.0//EN
CALSCALE:GREGORIAN
METHOD:PUBLISH
X-WR-CALNAME:GreeningDetroit.com
X-ORIGINAL-URL:https://www.greeningdetroit.com
X-WR-CALDESC:Events for GreeningDetroit.com
BEGIN:VTIMEZONE
TZID:America/Detroit
BEGIN:DAYLIGHT
TZOFFSETFROM:-0500
TZOFFSETTO:-0400
TZNAME:EDT
DTSTART:20210314T070000
END:DAYLIGHT
BEGIN:STANDARD
TZOFFSETFROM:-0400
TZOFFSETTO:-0500
TZNAME:EST
DTSTART:20211107T060000
END:STANDARD
END:VTIMEZONE
BEGIN:VEVENT
DTSTART;TZID=America/Detroit:20211009T173000
DTEND;TZID=America/Detroit:20211009T230000
DTSTAMP:20260424T190023
CREATED:20211009T190042Z
LAST-MODIFIED:20211009T190134Z
UID:57006-1633800600-1633820400@www.greeningdetroit.com
SUMMARY:Match-Making Event- EAST
DESCRIPTION:Cannas Captial Securities is please to present Round #2 of the Match-Making Event Series. This Event could not arrive at a better time for the Michigan community allowing entrepreneurs to own and operate businesses growing\, processing\, transporting\, retailers\, event planners\, and consuming cannabis! Come and network with banks\, lenders\, investors\, and other stakehlders.
URL:https://www.greeningdetroit.com/event/match-making-event-east/
CATEGORIES:Cannabis & Hemp
ATTACH;FMTTYPE=image/jpeg:https://www.greeningdetroit.com/wp-content/uploads/2021/10/https___cdn.evbuc_.com_images_146152175_170905412737_1_original.jpg
END:VEVENT
END:VCALENDAR