BEGIN:VCALENDAR
VERSION:2.0
PRODID:-//GreeningDetroit.com - ECPv5.11.0//NONSGML v1.0//EN
CALSCALE:GREGORIAN
METHOD:PUBLISH
X-WR-CALNAME:GreeningDetroit.com
X-ORIGINAL-URL:https://www.greeningdetroit.com
X-WR-CALDESC:Events for GreeningDetroit.com
BEGIN:VTIMEZONE
TZID:America/Detroit
BEGIN:DAYLIGHT
TZOFFSETFROM:-0500
TZOFFSETTO:-0400
TZNAME:EDT
DTSTART:20190310T070000
END:DAYLIGHT
BEGIN:STANDARD
TZOFFSETFROM:-0400
TZOFFSETTO:-0500
TZNAME:EST
DTSTART:20191103T060000
END:STANDARD
END:VTIMEZONE
BEGIN:VEVENT
DTSTART;TZID=America/Detroit:20190317T120000
DTEND;TZID=America/Detroit:20190317T160000
DTSTAMP:20260421T043844
CREATED:20190316T155929Z
LAST-MODIFIED:20190316T155929Z
UID:49807-1552824000-1552838400@www.greeningdetroit.com
SUMMARY:Michigan Hemp Conference by MICBD Group
DESCRIPTION:The Michigan Cannabis Business Development Group is proud to announce a partnership with the Michigan Hemp Industries Association for the Michigan Hemp Conference on March 17! \nPresenting at the Michigan Hemp Conference: Joshua Barrett. \nSome of you may know Josh from his veteran’s organization Odin’s Outcasts\, but he is the real deal when it comes to hemp and the new field of American agriculture. He is ALREADY doing this very thing in other states. His experience is unparalleled. Read More\,..
URL:https://www.greeningdetroit.com/event/michigan-hemp-conference-by-micbd-group/
LOCATION:Radisson Hotel\, Lansing\, 111 North Grand Avenue\, Lansing\, 48933\, United States
CATEGORIES:Conference,Economic Development,Educational
ATTACH;FMTTYPE=image/jpeg:https://www.greeningdetroit.com/wp-content/uploads/2019/03/https-cdn.evbuc_.com-images-54277041-57621497657-1-original.20181222-145619.jpg
ORGANIZER;CN="Michigan%20Cannabis%20Business%20Development%20Group%20-%20MICBD":MAILTO:info@mcirmagazine.com
END:VEVENT
END:VCALENDAR