BEGIN:VCALENDAR
VERSION:2.0
PRODID:-//GreeningDetroit.com - ECPv5.11.0//NONSGML v1.0//EN
CALSCALE:GREGORIAN
METHOD:PUBLISH
X-WR-CALNAME:GreeningDetroit.com
X-ORIGINAL-URL:https://www.greeningdetroit.com
X-WR-CALDESC:Events for GreeningDetroit.com
BEGIN:VTIMEZONE
TZID:America/Detroit
BEGIN:DAYLIGHT
TZOFFSETFROM:-0500
TZOFFSETTO:-0400
TZNAME:EDT
DTSTART:20180311T070000
END:DAYLIGHT
BEGIN:STANDARD
TZOFFSETFROM:-0400
TZOFFSETTO:-0500
TZNAME:EST
DTSTART:20181104T060000
END:STANDARD
END:VTIMEZONE
BEGIN:VEVENT
DTSTART;TZID=America/Detroit:20181020T080000
DTEND;TZID=America/Detroit:20181020T170000
DTSTAMP:20260421T041804
CREATED:20181020T190240Z
LAST-MODIFIED:20181020T190240Z
UID:48452-1540022400-1540054800@www.greeningdetroit.com
SUMMARY:Obesity and Your Gut Microbiome
DESCRIPTION:Your gut microbiome is like a fingerprint- it’s unique to you and influences multiple aspects of your health.\nDiet has a huge impact on the diversity of the bacteria found in your microbiome.\nIn this presentation Dr. Swenor will discuss the symbiotic relationship between the effects of diet on the microbiome and how your microbiome is involved in weight gain.
URL:https://www.greeningdetroit.com/event/obesity-and-your-gut-microbiome-2/
LOCATION:Groves High School Little Theater\, 20500 West 13 Mile Road\, Beverly Hills\, 48025\, United States
CATEGORIES:Educational,Health
END:VEVENT
END:VCALENDAR