BEGIN:VCALENDAR
VERSION:2.0
PRODID:-//GreeningDetroit.com - ECPv5.11.0//NONSGML v1.0//EN
CALSCALE:GREGORIAN
METHOD:PUBLISH
X-WR-CALNAME:GreeningDetroit.com
X-ORIGINAL-URL:https://www.greeningdetroit.com
X-WR-CALDESC:Events for GreeningDetroit.com
BEGIN:VTIMEZONE
TZID:America/Detroit
BEGIN:DAYLIGHT
TZOFFSETFROM:-0500
TZOFFSETTO:-0400
TZNAME:EDT
DTSTART:20200308T070000
END:DAYLIGHT
BEGIN:STANDARD
TZOFFSETFROM:-0400
TZOFFSETTO:-0500
TZNAME:EST
DTSTART:20201101T060000
END:STANDARD
END:VTIMEZONE
BEGIN:VEVENT
DTSTART;TZID=America/Detroit:20200121T183000
DTEND;TZID=America/Detroit:20200121T203000
DTSTAMP:20260421T041912
CREATED:20200104T180003Z
LAST-MODIFIED:20200104T180003Z
UID:51191-1579631400-1579638600@www.greeningdetroit.com
SUMMARY:Plant-Based Winter Meals with Soups and Stews
DESCRIPTION:Sample and learn delicious\, whole food plant-based\, budget-friendly soups & stews. See new recipes from the PBNSG Perfectly-Plant Based cookbook. \nJoin PBNSG Directors of Culinary Education in this all new cooking class for 2020. \nYou will learn to create deliciously easy and satisfying frigid weather meals that are also easy on the budget! \nPerfect class for Veganuary and New Year resolutions! \nSample SMOKY WHITE BEAN AND POTATO STEW and CREAM OF BROCCOLI SPINACH SOUP. Lots more too\, including a few featured recipes from our new PBNSG cookbook\, Perfectly Plant-Based\, which will be available for purchase at this class! \nRegister early for this new class with new recipes. Seating will be limited. \nFor tickets and additional information\, please visit our website at https://www.pbnsg.org. \nThis class will be held in the Wylie E. Groves High School cafeteria. \nParking is in the West Parking Lot\, off of 13 Mile Rd.\, across from the stadium. Enter the door with the peapod sign and follow the arrows to the cafeteria.
URL:https://www.greeningdetroit.com/event/plant-based-winter-meals-with-soups-and-stews/
LOCATION:Wylie E Groves High School Cafeteria\, 20500 West 13 Mile Rd.\, Beverly Hills\, MI\, 48025\, United States
CATEGORIES:Educational,Fun Things To Do,Health
ATTACH;FMTTYPE=image/jpeg:https://www.greeningdetroit.com/wp-content/uploads/2019/12/Cream-of-Broccoli-Spinach-Soup.jpg
ORGANIZER;CN="Plant%20Based%20Nutrition%20Support%20Group":MAILTO:connect@pbnsg.org
END:VEVENT
END:VCALENDAR