BEGIN:VCALENDAR
VERSION:2.0
PRODID:-//GreeningDetroit.com - ECPv5.11.0//NONSGML v1.0//EN
CALSCALE:GREGORIAN
METHOD:PUBLISH
X-WR-CALNAME:GreeningDetroit.com
X-ORIGINAL-URL:https://www.greeningdetroit.com
X-WR-CALDESC:Events for GreeningDetroit.com
BEGIN:VTIMEZONE
TZID:America/Detroit
BEGIN:DAYLIGHT
TZOFFSETFROM:-0500
TZOFFSETTO:-0400
TZNAME:EDT
DTSTART:20170312T070000
END:DAYLIGHT
BEGIN:STANDARD
TZOFFSETFROM:-0400
TZOFFSETTO:-0500
TZNAME:EST
DTSTART:20171105T060000
END:STANDARD
END:VTIMEZONE
BEGIN:VEVENT
DTSTART;TZID=America/Detroit:20170819T100000
DTEND;TZID=America/Detroit:20170819T160000
DTSTAMP:20260421T055329
CREATED:20170812T174359Z
LAST-MODIFIED:20170821T053003Z
UID:41995-1503136800-1503158400@www.greeningdetroit.com
SUMMARY:Shrine Dream Cruise 2017
DESCRIPTION:National Shrine of the Little Flower Basilica\n2100 W. 12 Mile Road\, Royal Oak\, Michigan 48073\nPlease join us for a day of great Music\, Food\, Fun\, Fellowship and\nSharing of Faith while viewing thousands of classic cars!!!\nAll are welcome!\n\n\nSaturday\, August 19\, 10:00am-4:00pm\nBeer & Bratz Bonanza at the Basilica on the Tower Porch\n4:30pm and 6:30pm Mass at the Basilica
URL:https://www.greeningdetroit.com/event/shrine-dream-cruise-2017-2/
LOCATION:National Shrine of the Little Flower Basilica\, 2100 W. 12 Mile Road\, Royal Oak\, MI\, 48073\, United States
CATEGORIES:Fest
END:VEVENT
END:VCALENDAR