BEGIN:VCALENDAR
VERSION:2.0
PRODID:-//GreeningDetroit.com - ECPv5.11.0//NONSGML v1.0//EN
CALSCALE:GREGORIAN
METHOD:PUBLISH
X-WR-CALNAME:GreeningDetroit.com
X-ORIGINAL-URL:https://www.greeningdetroit.com
X-WR-CALDESC:Events for GreeningDetroit.com
BEGIN:VTIMEZONE
TZID:America/Detroit
BEGIN:DAYLIGHT
TZOFFSETFROM:-0500
TZOFFSETTO:-0400
TZNAME:EDT
DTSTART:20180311T070000
END:DAYLIGHT
BEGIN:STANDARD
TZOFFSETFROM:-0400
TZOFFSETTO:-0500
TZNAME:EST
DTSTART:20181104T060000
END:STANDARD
END:VTIMEZONE
BEGIN:VEVENT
DTSTART;TZID=America/Detroit:20180922T170000
DTEND;TZID=America/Detroit:20180922T200000
DTSTAMP:20260421T041706
CREATED:20180526T211403Z
LAST-MODIFIED:20180526T211403Z
UID:47129-1537635600-1537646400@www.greeningdetroit.com
SUMMARY:Sickle CELLabration BOLL YMCA Detroit
DESCRIPTION:More information will be available soon – go to www.scdaami.org
URL:https://www.greeningdetroit.com/event/sickle-cellabration-boll-ymca-detroit/
LOCATION:YMCA Detroit\, 1401 Broadway St.\, Detroit\, MI\, 48226\, United States
CATEGORIES:Fundraiser,Humanitarian
END:VEVENT
END:VCALENDAR