BEGIN:VCALENDAR
VERSION:2.0
PRODID:-//GreeningDetroit.com - ECPv5.11.0//NONSGML v1.0//EN
CALSCALE:GREGORIAN
METHOD:PUBLISH
X-WR-CALNAME:GreeningDetroit.com
X-ORIGINAL-URL:https://www.greeningdetroit.com
X-WR-CALDESC:Events for GreeningDetroit.com
BEGIN:VTIMEZONE
TZID:America/Detroit
BEGIN:DAYLIGHT
TZOFFSETFROM:-0500
TZOFFSETTO:-0400
TZNAME:EDT
DTSTART:20180311T070000
END:DAYLIGHT
BEGIN:STANDARD
TZOFFSETFROM:-0400
TZOFFSETTO:-0500
TZNAME:EST
DTSTART:20181104T060000
END:STANDARD
END:VTIMEZONE
BEGIN:VEVENT
DTSTART;TZID=America/Detroit:20180628T130000
DTEND;TZID=America/Detroit:20180628T140000
DTSTAMP:20260421T123127
CREATED:20180425T033813Z
LAST-MODIFIED:20180425T033813Z
UID:46373-1530190800-1530194400@www.greeningdetroit.com
SUMMARY:Social Media and User Data – Is the Pendulum Shifting?
DESCRIPTION:Social media has become an integral part of our business and personal lives. In the wake of the Facebook-Cambridge Analytica revelations\, social media platforms are facing increasing scrutiny on a number of fronts over user data policies and practices. Investigations by the Federal Trade Commission and state attorneys general and recent Congressional hearings have heightened calls for regulation. The pervasive nature of social media use and the lack of comprehensive privacy laws to date underscore the challenge of rolling out meaningful\, practical regulations. Kathy Ossian of Ossian Law P.C. will cover:\nExamples of use and sharing of data to disseminate false information and influence elections\nEffectiveness of platform self-regulation of content\, including hate speech and “fake news”\nImpact of changes in data sharing practices on users\, developers\, advertisers and customers\nPotential regulation models \nSource: Ossian Law\, P.C.
URL:https://www.greeningdetroit.com/event/social-media-and-user-data-is-the-pendulum-shifting/
CATEGORIES:Vendor News
END:VEVENT
END:VCALENDAR