BEGIN:VCALENDAR
VERSION:2.0
PRODID:-//GreeningDetroit.com - ECPv5.11.0//NONSGML v1.0//EN
CALSCALE:GREGORIAN
METHOD:PUBLISH
X-WR-CALNAME:GreeningDetroit.com
X-ORIGINAL-URL:https://www.greeningdetroit.com
X-WR-CALDESC:Events for GreeningDetroit.com
BEGIN:VTIMEZONE
TZID:America/Detroit
BEGIN:DAYLIGHT
TZOFFSETFROM:-0500
TZOFFSETTO:-0400
TZNAME:EDT
DTSTART:20180311T070000
END:DAYLIGHT
BEGIN:STANDARD
TZOFFSETFROM:-0400
TZOFFSETTO:-0500
TZNAME:EST
DTSTART:20181104T060000
END:STANDARD
END:VTIMEZONE
BEGIN:VEVENT
DTSTART;TZID=America/Detroit:20180517T173000
DTEND;TZID=America/Detroit:20180517T193000
DTSTAMP:20260421T060637
CREATED:20180714T033521Z
LAST-MODIFIED:20180714T033521Z
UID:47511-1526578200-1526585400@www.greeningdetroit.com
SUMMARY:Spring Evening Networking @ P3 North America
DESCRIPTION:P3 North America is opening the doors to its Mobility Innovation Center in Southfield on May 17 for Automation Alley Spring Evening Networking. Join fellow Automation Alley members as you explore this innovative company’s full facility and learn about how P3 is supporting a wide range of consulting and engineering services centered on future technologies. Connect with fellow members over German beer and hors d’oeuvres and join the discussion as we showcase Industry 4.0 implementation projects by manufacturing SMEs. \n \nAgenda:\n5:30-6:15 p.m. Registration\, networking\, guided tour\, beer\, wine and hors d’oeuvres\n6:20 p.m. Welcome from Dr. Samit Ghosh\, CEO and President\, P3 North America\n6:30-7 p.m. P3 Digital Transformation Case Studies\n7-7:30 p.m. Talk with the experts: Showcase & Discussion\n7:30 p.m. Conclusion
URL:https://www.greeningdetroit.com/event/spring-evening-networking-p3-north-america/
CATEGORIES:Organization Member Event,Vendor News
END:VEVENT
END:VCALENDAR