BEGIN:VCALENDAR
VERSION:2.0
PRODID:-//GreeningDetroit.com - ECPv5.11.0//NONSGML v1.0//EN
CALSCALE:GREGORIAN
METHOD:PUBLISH
X-WR-CALNAME:GreeningDetroit.com
X-ORIGINAL-URL:https://www.greeningdetroit.com
X-WR-CALDESC:Events for GreeningDetroit.com
BEGIN:VTIMEZONE
TZID:America/Detroit
BEGIN:DAYLIGHT
TZOFFSETFROM:-0500
TZOFFSETTO:-0400
TZNAME:EDT
DTSTART:20170312T070000
END:DAYLIGHT
BEGIN:STANDARD
TZOFFSETFROM:-0400
TZOFFSETTO:-0500
TZNAME:EST
DTSTART:20171105T060000
END:STANDARD
END:VTIMEZONE
BEGIN:VEVENT
DTSTART;TZID=America/Detroit:20170823T140000
DTEND;TZID=America/Detroit:20170823T160000
DTSTAMP:20260421T071116
CREATED:20170801T155651Z
LAST-MODIFIED:20170801T155651Z
UID:41479-1503496800-1503504000@www.greeningdetroit.com
SUMMARY:Tech248 August MeetUp
DESCRIPTION:Agenda\n2:00 PM Arrival & Networking\n2:15 PM Welcome & Opening Remarks\nGreg Doyle\, Tech248\n2:20 PM “IT Apprenticeships: Growing Your Own Talent”\nJennifer Llewellyn\, Manager\, Oakland County\nWorkforce Development\n2:30 PM “U.S. Department of Labor Overview”\nMarc Decoster\, Apprenticeship & Training Representative\,\nU. S. Department of Labor\, Detroit\n2:35 PM “Today’s IT Apprenticeship Models”\nDenise VanHee\, Director\, Oakland County Michigan Works!\, Troy\n2:45 PM Panel Discussion – “Apprenticeship Options and Finding Talent”\nSarah Kropinski\, Workforce Development Consultant\, Oakland County\nMichigan Works! Troy and Tech248\nMarybeth Vanburskirk\, Apprenticeship Success Coordinator\,\nOakland Community College\, Auburn Hills\nJohn Sullivan\, Project Manager\, Workforce Intelligence Network\, Detroit\nCynthia Scherphorn\, Resource and Career Development Consultant\,\nOakland Schools\, Pontiac\nLiz Rivard\, Program Manager\, Automation Alley\, Troy\n3:05 PM Closing Remarks & Networking\n4:00 PM Wrap Up \nSource: Oakland County \nClick here to be introduced to Oakland County!
URL:https://www.greeningdetroit.com/event/tech248-august-meetup/
CATEGORIES:Economic Development
END:VEVENT
END:VCALENDAR