BEGIN:VCALENDAR
VERSION:2.0
PRODID:-//GreeningDetroit.com - ECPv5.11.0//NONSGML v1.0//EN
CALSCALE:GREGORIAN
METHOD:PUBLISH
X-WR-CALNAME:GreeningDetroit.com
X-ORIGINAL-URL:https://www.greeningdetroit.com
X-WR-CALDESC:Events for GreeningDetroit.com
BEGIN:VTIMEZONE
TZID:America/Detroit
BEGIN:DAYLIGHT
TZOFFSETFROM:-0500
TZOFFSETTO:-0400
TZNAME:EDT
DTSTART:20210314T070000
END:DAYLIGHT
BEGIN:STANDARD
TZOFFSETFROM:-0400
TZOFFSETTO:-0500
TZNAME:EST
DTSTART:20211107T060000
END:STANDARD
END:VTIMEZONE
BEGIN:VEVENT
DTSTART;TZID=America/Detroit:20211014T090000
DTEND;TZID=America/Detroit:20211014T150000
DTSTAMP:20260424T171413
CREATED:20210925T201750Z
LAST-MODIFIED:20210925T201750Z
UID:56834-1634202000-1634223600@www.greeningdetroit.com
SUMMARY:VIRTUAL 18th Annual Images & Perceptions Diversity Conference
DESCRIPTION:The Images & Perceptions Diversity Conference is a reminder that the challenges we face\, we face together and the solutions we need to put in place must be inclusive\, especially for those who are the most vulnerable among us.
URL:https://www.greeningdetroit.com/event/virtual-18th-annual-images-perceptions-diversity-conference/
CATEGORIES:Conference
ATTACH;FMTTYPE=image/webp:https://www.greeningdetroit.com/wp-content/uploads/2021/09/4d074b4b91e0494d9257485a7bf32cd3_3299e9291cd7274f8f688aa076faa6c5.webp
ORGANIZER;CN="3D%20Consulting%20and%20Communications":MAILTO:imagesandperceptions@3Dconsults.com
END:VEVENT
END:VCALENDAR