BEGIN:VCALENDAR
VERSION:2.0
PRODID:-//GreeningDetroit.com - ECPv5.11.0//NONSGML v1.0//EN
CALSCALE:GREGORIAN
METHOD:PUBLISH
X-WR-CALNAME:GreeningDetroit.com
X-ORIGINAL-URL:https://www.greeningdetroit.com
X-WR-CALDESC:Events for GreeningDetroit.com
BEGIN:VTIMEZONE
TZID:America/Detroit
BEGIN:DAYLIGHT
TZOFFSETFROM:-0500
TZOFFSETTO:-0400
TZNAME:EDT
DTSTART:20170312T070000
END:DAYLIGHT
BEGIN:STANDARD
TZOFFSETFROM:-0400
TZOFFSETTO:-0500
TZNAME:EST
DTSTART:20171105T060000
END:STANDARD
END:VTIMEZONE
BEGIN:VEVENT
DTSTART;TZID=America/Detroit:20171020T110000
DTEND;TZID=America/Detroit:20171020T130000
DTSTAMP:20260421T051616
CREATED:20170520T141824Z
LAST-MODIFIED:20200127T040210Z
UID:39227-1508497200-1508504400@www.greeningdetroit.com
SUMMARY:Women of Achievement Awards presented by Beaumont
DESCRIPTION:This exciting event will feature a keynote address from a regional business leader\, a delicious luncheon\, and gorgeous awards ceremony complete with award videos and the whole grand experience! The Southern Wayne County Regional Chamber will proudly recognize some of the most outstanding women in our region with the “Leadership Award\,” “Entrepreneur Award\,” and “Unsung Heroine Award!” Of course\, men will not be left out as we honor a leader in our community who has been a champion for women in business leadership with the “Community Award”!
URL:https://www.greeningdetroit.com/event/women-achievement-awards-presented-beaumont/
END:VEVENT
END:VCALENDAR