BEGIN:VCALENDAR
VERSION:2.0
PRODID:-//GreeningDetroit.com - ECPv5.11.0//NONSGML v1.0//EN
CALSCALE:GREGORIAN
METHOD:PUBLISH
X-WR-CALNAME:GreeningDetroit.com
X-ORIGINAL-URL:https://www.greeningdetroit.com
X-WR-CALDESC:Events for GreeningDetroit.com
BEGIN:VTIMEZONE
TZID:America/Detroit
BEGIN:DAYLIGHT
TZOFFSETFROM:-0500
TZOFFSETTO:-0400
TZNAME:EDT
DTSTART:20180311T070000
END:DAYLIGHT
BEGIN:STANDARD
TZOFFSETFROM:-0400
TZOFFSETTO:-0500
TZNAME:EST
DTSTART:20181104T060000
END:STANDARD
END:VTIMEZONE
BEGIN:VEVENT
DTSTART;TZID=America/Detroit:20180210T090000
DTEND;TZID=America/Detroit:20180210T130000
DTSTAMP:20260421T091851
CREATED:20180201T195720Z
LAST-MODIFIED:20180201T200003Z
UID:44498-1518253200-1518267600@www.greeningdetroit.com
SUMMARY:WOMEN BUILD
DESCRIPTION:Women In Skilled Trades (WIST) invites you to join them for WOMEN BUILD\, an EXPLORATION into the field of construction skilled trades. WIST has partnered with Michigan Laborers’ Training and Apprenticeship Institute to bring you a morning filled with hands-on activities and work sessions where you can LEARN about exciting CAREER OPPORTUNITIES. \nSpace is limited\, so sign up now. Breakfast and snacks will be provided. Carpooling is available.\nWhen: Saturday\, February 10\, 2018\, 9:00am – 1:00pm\nWhere: Michigan Laborers Training Facility\, 11155 Beardslee Rd\, Perry\, MI 48872\nSign Up At: https://tinyurl.com/mltai \nWomen_Build_Perry_02-10-18.pdf \nClick here to be introduced to LARA!
URL:https://www.greeningdetroit.com/event/women-build/
CATEGORIES:Economic Development
END:VEVENT
END:VCALENDAR