BEGIN:VCALENDAR
VERSION:2.0
PRODID:-//GreeningDetroit.com - ECPv5.11.0//NONSGML v1.0//EN
CALSCALE:GREGORIAN
METHOD:PUBLISH
X-WR-CALNAME:GreeningDetroit.com
X-ORIGINAL-URL:https://www.greeningdetroit.com
X-WR-CALDESC:Events for GreeningDetroit.com
BEGIN:VTIMEZONE
TZID:America/Detroit
BEGIN:DAYLIGHT
TZOFFSETFROM:-0500
TZOFFSETTO:-0400
TZNAME:EDT
DTSTART:20210314T070000
END:DAYLIGHT
BEGIN:STANDARD
TZOFFSETFROM:-0400
TZOFFSETTO:-0500
TZNAME:EST
DTSTART:20211107T060000
END:STANDARD
END:VTIMEZONE
BEGIN:VEVENT
DTSTART;VALUE=DATE:20211005
DTEND;VALUE=DATE:20211008
DTSTAMP:20260424T170554
CREATED:20210720T163415Z
LAST-MODIFIED:20210720T163415Z
UID:56059-1633392000-1633651199@www.greeningdetroit.com
SUMMARY:Battery Seminar 2021
DESCRIPTION:October 05-07\, 2021: PlugVolt will be hosting its next Battery Seminar in Plymouth\, MI (USA) featuring an entire day of in-depth technical tutorials on fundamental materials’ challenges for electrochemical energy storage\, opportunities and challenges with solid-state batteries\, best design practices for cell engineering\, battery modeling and health monitoring\, second life design considerations for energy storage\, etc. Next two days will include complementary industry updates provided by subject matter experts from Automotive and Grid Storage OEMs\, major battery manufacturers and global Tier 1 system developers and suppliers. Attendees will also get an exclusive opportunity to tour INTERTEK Battery Testing Center of Excellence in Plymouth\, Michigan (USA)\, ask questions to resident experts\, and enjoy some light appetizers and beverages while networking with industry peers. \nEvent Highlights \n– Full day of technical tutorials on batteries and energy storage systems presented by world renowned professors from Top 50 US universities \n– Complementary talks by guest speakers from major Auto and Grid OEMs\, Tier 1s and battery makers \n– An exclusive opportunity to tour INTERTEK Battery Testing Center of Excellence in Plymouth\, Michigan (USA)
URL:https://www.greeningdetroit.com/event/battery-seminar-2021/
LOCATION:The Inn At St. Johns\, 44045 Five Mile Road\, MI \,  Plymouth\, MI\, 48170\, United States
CATEGORIES:Automotive Events,Conference,Educational,Seminar
ATTACH;FMTTYPE=image/png:https://www.greeningdetroit.com/wp-content/uploads/2021/07/Battery-Seminar-2021-R-Speakers-1.png
ORGANIZER;CN="PlugVolt":MAILTO:info@plugvolt.com
END:VEVENT
END:VCALENDAR