BEGIN:VCALENDAR
VERSION:2.0
PRODID:-//GreeningDetroit.com - ECPv5.11.0//NONSGML v1.0//EN
CALSCALE:GREGORIAN
METHOD:PUBLISH
X-WR-CALNAME:GreeningDetroit.com
X-ORIGINAL-URL:https://www.greeningdetroit.com
X-WR-CALDESC:Events for GreeningDetroit.com
BEGIN:VTIMEZONE
TZID:America/Detroit
BEGIN:DAYLIGHT
TZOFFSETFROM:-0500
TZOFFSETTO:-0400
TZNAME:EDT
DTSTART:20210314T070000
END:DAYLIGHT
BEGIN:STANDARD
TZOFFSETFROM:-0400
TZOFFSETTO:-0500
TZNAME:EST
DTSTART:20211107T060000
END:STANDARD
END:VTIMEZONE
BEGIN:VEVENT
DTSTART;VALUE=DATE:20211020
DTEND;VALUE=DATE:20211021
DTSTAMP:20260424T171115
CREATED:20210904T183406Z
LAST-MODIFIED:20210904T183406Z
UID:56664-1634688000-1634774399@www.greeningdetroit.com
SUMMARY:Start Up Energy Transition - SET Tech Festival
DESCRIPTION:Creating a global community\nStart Up Energy Transition (SET) is a global innovation platform supporting innovation in energy transition. SET is implemented with the conviction that a sustainable future is directly linked to innovative business models and political will. The SET platform is powered by the German Energy Agency (dena)\, in cooperation with the World Energy Council. \nAt the core\, the SET platform is comprised of the SET Award\, the SET Tech Festival and a growing global network. In addition\, each year we publish a #SET100 list – a list of the top 100 most innovative\, saavy and promising start-ups. \nThe Tech Festival gives you access to the best start-ups and outstanding entrepreneurs in the field of energy solutions\, in addition to innovation-driven corporates\, investors\, and public organizations leading the energy transition. We are proud to bring policymakers together with investors and start-ups for the fourth year.
URL:https://www.greeningdetroit.com/event/start-up-energy-transition-set-tech-festival/
CATEGORIES:Conference,Conservation,Educational,Fest,Seminar,Webinar
END:VEVENT
END:VCALENDAR