BEGIN:VCALENDAR
VERSION:2.0
PRODID:-//GreeningDetroit.com - ECPv5.11.0//NONSGML v1.0//EN
CALSCALE:GREGORIAN
METHOD:PUBLISH
X-WR-CALNAME:GreeningDetroit.com
X-ORIGINAL-URL:https://www.greeningdetroit.com
X-WR-CALDESC:Events for GreeningDetroit.com
BEGIN:VTIMEZONE
TZID:America/Detroit
BEGIN:DAYLIGHT
TZOFFSETFROM:-0500
TZOFFSETTO:-0400
TZNAME:EDT
DTSTART:20210314T070000
END:DAYLIGHT
BEGIN:STANDARD
TZOFFSETFROM:-0400
TZOFFSETTO:-0500
TZNAME:EST
DTSTART:20211107T060000
END:STANDARD
END:VTIMEZONE
BEGIN:VEVENT
DTSTART;TZID=America/Detroit:20211015T100000
DTEND;TZID=America/Detroit:20211015T120000
DTSTAMP:20260422T141134
CREATED:20210731T205445Z
LAST-MODIFIED:20210801T001817Z
UID:56251-1634292000-1634299200@www.greeningdetroit.com
SUMMARY:Northern Michigan Golf Classic Benefitting Pediatric Cannabis
DESCRIPTION:The Northern Michigan Cannabis Conference and Masquerade Ball at Grand Traverse Resort will be one of the cannabis industries finest\, most memorable\, fun filled events to ever be hosted in Michigan! Whether you are in the business of cannabis or a consumer this event will showcase the best of both worlds\, highlighting Michigan’s best medical and recreation businesses including state licensed grows\, processors\, retailers\, caregivers and all the ancillary businesses that support both. \nOctober 15&16th is peak season for Fall Color tourism and people from across Michigan will be visiting Grand Traverse and the surrounding areas will be bustling this weekend. Besides having the Conference & Masquerade Ball to enjoy\, Traverse City is one of the most beautiful destinations to visit\, with lake Michigan bordering its West coast and the Old Mission Peninsula lined with wineries\, breweries\, and quaint shops\, there’s so much to enjoy while you are there. \nAfter an eventful day at the Expo and touring Traverse City\, you will return to an evening filled with mystery and delight as you make your entrance at the Masquerade Ball. You will be welcomed with a glass of wine and a delicious dinner prepared by the awesome chefs at Grand Traverse. There will be music and dancing\, with a cannabis friendly designated area for those that enjoy smoking or vaping. \nTo top it off Saturday October 16th is Sweetest Day\, so there will be special sweet treats for everyone attending and the chance to win prizes for Best Masquerade Costume by a Couple and Single person. So do not hesitate\, get your tickets\, and reserve your room today because the Northern Michigan Cannabis Conference and Masquerade Ball at Grand Traverse Resort & Spa is the place to be October 16th!
URL:https://www.greeningdetroit.com/event/northern-michigan-golf-classic-benefitting-pediatric-cannabis/
LOCATION:Grand Traverse Resort And Spa
CATEGORIES:Fundraiser
ATTACH;FMTTYPE=image/jpeg:https://www.greeningdetroit.com/wp-content/uploads/2021/07/228151822_10159955244897780_3199515635202390716_n.jpg
END:VEVENT
END:VCALENDAR